BEGIN:VCALENDAR
VERSION:2.0
PRODID:-//eventon.com NONSGML v1.0//EN
CALSCALE:GREGORIAN
METHOD:PUBLISH
BEGIN:VEVENT
UID:69ea0e044c7c7
DTSTAMP:20260423T121812Z
DTSTART:20260201T220000Z
DTEND:20260202T020000Z
LOCATION:
SUMMARY:G.O.A.T.
DESCRIPTION:G.O.A.T.\nhttps://spaexcess.com/events/g-o-a-t-get-out-and-thro
 at/
URL:https://spaexcess.com/events/g-o-a-t-get-out-and-throat/
END:VEVENT
BEGIN:VEVENT
UID:69ea0e044c958
DTSTAMP:20260423T121812Z
DTSTART:20251222T010000Z
DTEND:20251222T045900Z
LOCATION:Spa Excess 105 Carlton
SUMMARY:Ryan Russell’s Protégés
DESCRIPTION:Ryan Russell&#8217;s Protégés\nhttps://spaexcess.com/events/r
 yan-russells-proteges-2/
URL:https://spaexcess.com/events/ryan-russells-proteges-2/
END:VEVENT
BEGIN:VEVENT
UID:69ea0e044ca2b
DTSTAMP:20260423T121812Z
DTSTART:20251101T000000Z
DTEND:20251101T070000Z
LOCATION:
SUMMARY:Halloween Dance Party
DESCRIPTION:Halloween Dance Party\nhttps://spaexcess.com/events/halloween-d
 ance-party/
URL:https://spaexcess.com/events/halloween-dance-party/
END:VEVENT
BEGIN:VEVENT
UID:69ea0e044caff
DTSTAMP:20260423T121812Z
DTSTART:20250202T180000Z
DTEND:20250202T230000Z
LOCATION:Spa Excess 105 Carlton
SUMMARY:Chubs at the Tubs
DESCRIPTION:Chubs at the Tubs\nhttps://spaexcess.com/events/chubs-at-the-tu
 bs/
URL:https://spaexcess.com/events/chubs-at-the-tubs/
END:VEVENT
BEGIN:VEVENT
UID:69ea0e044cbc1
DTSTAMP:20260423T121812Z
DTSTART:20260411T010000Z
DTEND:20260410T060000Z
LOCATION:Spa Excess 105 Carlton
SUMMARY:SUDS: Bathhouse Dance Party
DESCRIPTION:SUDS: Bathhouse Dance Party\nhttps://spaexcess.com/events/suds-
 bathhouse-dance-party/
URL:https://spaexcess.com/events/suds-bathhouse-dance-party/
END:VEVENT
BEGIN:VEVENT
UID:69ea0e044cc80
DTSTAMP:20260423T121812Z
DTSTART:20260126T010000Z
DTEND:20260126T045900Z
LOCATION:Spa Excess 105 Carlton
SUMMARY:Ryan Russell’s Protégés
DESCRIPTION:Ryan Russell&#8217;s Protégés\nhttps://spaexcess.com/events/r
 yan-russells-proteges/
URL:https://spaexcess.com/events/ryan-russells-proteges/
END:VEVENT
BEGIN:VEVENT
UID:69ea0e044cd32
DTSTAMP:20260423T121812Z
DTSTART:20250126T230000Z
DTEND:20250127T020000Z
LOCATION:Spa Excess 105 Carlton
SUMMARY:SOS: EXCESS Spanks!
DESCRIPTION:SOS: EXCESS Spanks!\nhttps://spaexcess.com/events/sos-excess-sp
 anks/
URL:https://spaexcess.com/events/sos-excess-spanks/
END:VEVENT
BEGIN:VEVENT
UID:69ea0e044cde7
DTSTAMP:20260423T121812Z
DTSTART:20260109T000000Z
DTEND:20260109T030000Z
LOCATION:Spa Excess 105 Carlton
SUMMARY:TNE: Totally Naked Excess
DESCRIPTION:TNE: Totally Naked Excess\nhttps://spaexcess.com/events/tne-tot
 ally-naked-excess/
URL:https://spaexcess.com/events/tne-totally-naked-excess/
END:VEVENT
BEGIN:VEVENT
UID:69ea0e044cea3
DTSTAMP:20260423T121812Z
DTSTART:20260109T010000Z
DTEND:20260108T050000Z
LOCATION:Spa Excess 105 Carlton
SUMMARY:Fetish Night
DESCRIPTION:Fetish Night\nhttps://spaexcess.com/events/fetish-night/
URL:https://spaexcess.com/events/fetish-night/
END:VEVENT
BEGIN:VEVENT
UID:69ea0e044cf5b
DTSTAMP:20260423T121812Z
DTSTART:20250112T180000Z
DTEND:20250112T230000Z
LOCATION:Spa Excess 105 Carlton
SUMMARY:Rough House
DESCRIPTION:Rough House\nhttps://spaexcess.com/events/rough-house/
URL:https://spaexcess.com/events/rough-house/
END:VEVENT
BEGIN:VEVENT
UID:69ea0e044d017
DTSTAMP:20260423T121812Z
DTSTART:20260213T010000Z
DTEND:20260212T050000Z
LOCATION:Spa Excess 105 Carlton
SUMMARY:CODE RED: FF Night
DESCRIPTION:CODE RED: FF Night\nhttps://spaexcess.com/events/code-red-ff-ni
 ght/
URL:https://spaexcess.com/events/code-red-ff-night/
END:VEVENT
BEGIN:VEVENT
UID:69ea0e044d0f1
DTSTAMP:20260423T121812Z
DTSTART:20260104T210000Z
DTEND:20260105T045900Z
LOCATION:Spa Excess 105 Carlton
SUMMARY:Slammin’ Sundays RETRO Parties
DESCRIPTION:Slammin&#8217; Sundays RETRO Parties\nhttps://spaexcess.com/eve
 nts/slammin-sundays-retro-parties/
URL:https://spaexcess.com/events/slammin-sundays-retro-parties/
END:VEVENT
BEGIN:VEVENT
UID:69ea0e044d1a5
DTSTAMP:20260423T121812Z
DTSTART:20250104T170000Z
DTEND:20250105T045900Z
LOCATION:Spa Excess 105 Carlton
SUMMARY:Excess Jacks
DESCRIPTION:Excess Jacks\nhttps://spaexcess.com/events/excess-jacks/
URL:https://spaexcess.com/events/excess-jacks/
END:VEVENT
BEGIN:VEVENT
UID:69ea0e044d255
DTSTAMP:20260423T121812Z
DTSTART:20260206T010000Z
DTEND:20260206T040000Z
LOCATION:Spa Excess 105 Carlton
SUMMARY:Boned Up
DESCRIPTION:Boned Up\nhttps://spaexcess.com/events/boned-up/
URL:https://spaexcess.com/events/boned-up/
END:VEVENT
BEGIN:VEVENT
UID:69ea0e044d30a
DTSTAMP:20260423T121812Z
DTSTART:20250101T010000Z
DTEND:20250101T080000Z
LOCATION:Spa Excess 105 Carlton
SUMMARY:New Year’s Eve 2026: Ball Drop!
DESCRIPTION:New Year’s Eve 2026: Ball Drop!\nhttps://spaexcess.com/events
 /new-years-eve-2024-ball-drop/
URL:https://spaexcess.com/events/new-years-eve-2024-ball-drop/
END:VEVENT
BEGIN:VEVENT
UID:69ea0e044d3c0
DTSTAMP:20260423T121812Z
DTSTART:20260123T010000Z
DTEND:20260123T040000Z
LOCATION:Spa Excess 105 Carlton
SUMMARY:Latin Night
DESCRIPTION:Latin Night\nhttps://spaexcess.com/events/latin-night/
URL:https://spaexcess.com/events/latin-night/
END:VEVENT
BEGIN:VEVENT
UID:69ea0e044d472
DTSTAMP:20260423T121812Z
DTSTART:20260207T010000Z
DTEND:20260207T040000Z
LOCATION:Spa Excess 105 Carlton
SUMMARY:Naked Night
DESCRIPTION:Naked Night\nhttps://spaexcess.com/events/naked-night/
URL:https://spaexcess.com/events/naked-night/
END:VEVENT
BEGIN:VEVENT
UID:69ea0e044d522
DTSTAMP:20260423T121812Z
DTSTART:20260418T000000Z
DTEND:20260417T080000Z
LOCATION:Spa Excess 105 Carlton
SUMMARY:CLIMAX! Fridays
DESCRIPTION:CLIMAX! Fridays\nhttps://spaexcess.com/events/climax-fridays/
URL:https://spaexcess.com/events/climax-fridays/
END:VEVENT
BEGIN:VEVENT
UID:69ea0e044d5cc
DTSTAMP:20260423T121812Z
DTSTART:20260220T230000Z
DTEND:20260221T010000Z
LOCATION:Spa Excess 105 Carlton
SUMMARY:Sexual Health Coordinator
DESCRIPTION:Sexual Health Coordinator\nhttps://spaexcess.com/events/sexual-
 health-coordinator/
URL:https://spaexcess.com/events/sexual-health-coordinator/
END:VEVENT
BEGIN:VEVENT
UID:69ea0e044d674
DTSTAMP:20260423T121812Z
DTSTART:20260220T000000Z
DTEND:20260220T040000Z
LOCATION:Spa Excess 105 Carlton
SUMMARY:Asian Night
DESCRIPTION:Asian Night\nhttps://spaexcess.com/events/asian-night/
URL:https://spaexcess.com/events/asian-night/
END:VEVENT
BEGIN:VEVENT
UID:69ea0e044d724
DTSTAMP:20260423T121812Z
DTSTART:20260123T010000Z
DTEND:20260123T045900Z
LOCATION:Spa Excess 105 Carlton
SUMMARY:Date Night
DESCRIPTION:Date Night\nhttps://spaexcess.com/events/date-night/
URL:https://spaexcess.com/events/date-night/
END:VEVENT
BEGIN:VEVENT
UID:69ea0e044d7e0
DTSTAMP:20260423T121812Z
DTSTART:20260123T010000Z
DTEND:20260122T050000Z
LOCATION:Spa Excess 105 Carlton
SUMMARY:College Night
DESCRIPTION:College Night\nhttps://spaexcess.com/events/college-night/
URL:https://spaexcess.com/events/college-night/
END:VEVENT
BEGIN:VEVENT
UID:69ea0e044d890
DTSTAMP:20260423T121812Z
DTSTART:20260120T170000Z
DTEND:20260120T050000Z
LOCATION:Spa Excess 105 Carlton
SUMMARY:Playground
DESCRIPTION:Playground\nhttps://spaexcess.com/events/playground/
URL:https://spaexcess.com/events/playground/
END:VEVENT
BEGIN:VEVENT
UID:69ea0e044d94c
DTSTAMP:20260423T121812Z
DTSTART:20260120T210000Z
DTEND:20260120T230000Z
LOCATION:Spa Excess 105 Carlton
SUMMARY:Happy Hour
DESCRIPTION:Happy Hour\nhttps://spaexcess.com/events/happy-hour/
URL:https://spaexcess.com/events/happy-hour/
END:VEVENT
BEGIN:VEVENT
UID:69ea0e044d9fb
DTSTAMP:20260423T121812Z
DTSTART:20250119T180000Z
DTEND:20250119T230000Z
LOCATION:Spa Excess 105 Carlton
SUMMARY:Bears in Excess
DESCRIPTION:Bears in Excess\nhttps://spaexcess.com/events/bears-in-excess/
URL:https://spaexcess.com/events/bears-in-excess/
END:VEVENT
END:VCALENDAR